BEGIN:VCALENDAR
VERSION:2.0
PRODID:-//104.28.26.39//NONSGML kigkonsult.se iCalcreator 2.20//
CALSCALE:GREGORIAN
METHOD:PUBLISH
X-WR-CALNAME:Morningside School
X-WR-CALDESC:
X-FROM-URL:http://www.morningside.school.nz
X-WR-TIMEZONE:Pacific/Auckland
BEGIN:VTIMEZONE
TZID:Pacific/Auckland
X-LIC-LOCATION:Pacific/Auckland
BEGIN:STANDARD
DTSTART:20180401T030000
TZOFFSETFROM:+1300
TZOFFSETTO:+1200
TZNAME:NZST
END:STANDARD
BEGIN:DAYLIGHT
DTSTART:20170924T020000
TZOFFSETFROM:+1200
TZOFFSETTO:+1300
TZNAME:NZDT
END:DAYLIGHT
END:VTIMEZONE
BEGIN:VEVENT
UID:ai1ec-3973@www.morningside.school.nz
DTSTAMP:20180122T150956Z
CATEGORIES:
CONTACT:
DESCRIPTION:
DTSTART;VALUE=DATE:20180130
DTEND;VALUE=DATE:20180131
SEQUENCE:0
SUMMARY:School Office Opens
URL:http://www.morningside.school.nz/ai1ec_event/school-office-opens/
END:VEVENT
END:VCALENDAR
